BEGIN:VCALENDAR
VERSION:2.0
PRODID:-//casawtx.org//NONSGML kigkonsult.se iCalcreator 2.30.10//
CALSCALE:GREGORIAN
METHOD:PUBLISH
UID:9361561d-12d3-4b4d-949e-459e5403caef
X-WR-CALDESC:As of 8/25/20\, our Team registration is closed because the to
 urnament is full. Please contact Katy Sheahan at 432.683.1114 ext 19 to be
  placed on a wait list. \n\nSponsorships are still available until Septemb
 er 11th! \n\nJoin us for the Pioneer Natural Resources CASA 4 Kids Golf To
 urnament benefiting CASA of West Texas!  Don't miss out on a great tournam
 ent for a great cause.  CASA of West Texas recruits\, trains and support c
 ommitted volunteers who advocate for youth in foster care. \n\nHow can you
  help provide a CASA volunteer for every child in foster care? Become a sp
 onsor for this event! Your sponsorship can help CASA of West Texas grow to
  advocate for over 500 local foster children in our area. Your participati
 on helps ensure our organization can grow to meet the needs of these child
 ren. You can make a difference!\n\n\n
X-WR-RELCALID:912c3f1598b80f7a9cec2ff5fe16c4ab
X-WR-TIMEZONE:America/Chicago
BEGIN:VTIMEZONE
TZID:America/Chicago
BEGIN:STANDARD
TZNAME:CST
DTSTART:20191103T020000
TZOFFSETFROM:-0500
TZOFFSETTO:-0600
RDATE:20201101T020000
RDATE:20211107T020000
END:STANDARD
BEGIN:DAYLIGHT
TZNAME:CDT
DTSTART:20200308T020000
TZOFFSETFROM:-0600
TZOFFSETTO:-0500
RDATE:20210314T020000
RDATE:20220313T020000
END:DAYLIGHT
END:VTIMEZONE
BEGIN:VEVENT
UID:72bb7483-c93b-45a9-8563-89d4cd65091a
DTSTAMP:20260420T095522Z
DESCRIPTION:As of 8/25/20\, our Team registration is closed because the tou
 rnament is full. Please contact Katy Sheahan at 432.683.1114 ext 19 to be 
 placed on a wait list. \n\nSponsorships are still available until Septembe
 r 11th! \n\nJoin us for the Pioneer Natural Resources CASA 4 Kids Golf Tou
 rnament benefiting CASA of West Texas!  Don't miss out on a great tourname
 nt for a great cause.  CASA of West Texas recruits\, trains and support co
 mmitted volunteers who advocate for youth in foster care. \n\nHow can you 
 help provide a CASA volunteer for every child in foster care? Become a spo
 nsor for this event! Your sponsorship can help CASA of West Texas grow to 
 advocate for over 500 local foster children in our area. Your participatio
 n helps ensure our organization can grow to meet the needs of these childr
 en. You can make a difference!\n\n\n
DTSTART;TZID=America/Chicago:20200918T083000
DTEND;TZID=America/Chicago:20200918T130000
LOCATION:Ranchland Hills Golf Club
SUMMARY:2020 CASA 4 Kids Golf Tournament
END:VEVENT
END:VCALENDAR
