BEGIN:VCALENDAR
VERSION:2.0
PRODID:-//casawtx.org//NONSGML kigkonsult.se iCalcreator 2.30.10//
CALSCALE:GREGORIAN
METHOD:PUBLISH
UID:fdbd6306-5664-4b7a-8fe4-fff2736ab37a
X-WR-CALDESC:Sign up for our CASA Information Session and take the first st
 ep toward becoming a voice for a child in foster care.\n\nCASA Volunteers 
 are everyday community members who step up and lift up the voices of child
 ren in foster care. Children in foster care need an advocate to speak up f
 or them.\nWhat does it take to become a volunteer? Join us to learn the ba
 sics!
X-WR-RELCALID:16f3d9ece5e51fd37ac1fcc267e872ee
X-WR-TIMEZONE:America/Chicago
BEGIN:VTIMEZONE
TZID:America/Chicago
BEGIN:STANDARD
TZNAME:CST
DTSTART:20251102T020000
TZOFFSETFROM:-0500
TZOFFSETTO:-0600
RDATE:20261101T020000
END:STANDARD
BEGIN:DAYLIGHT
TZNAME:CDT
DTSTART:20260308T020000
TZOFFSETFROM:-0600
TZOFFSETTO:-0500
RDATE:20270314T020000
END:DAYLIGHT
END:VTIMEZONE
BEGIN:VEVENT
UID:ffca770e-4430-4c1e-b5ac-4b1713cafbca
DTSTAMP:20260421T020206Z
DESCRIPTION:Sign up for our CASA Information Session and take the first ste
 p toward becoming a voice for a child in foster care.\n\nCASA Volunteers a
 re everyday community members who step up and lift up the voices of childr
 en in foster care. Children in foster care need an advocate to speak up fo
 r them.\nWhat does it take to become a volunteer? Join us to learn the bas
 ics!
DTSTART;TZID=America/Chicago:20260422T120000
DTEND;TZID=America/Chicago:20260422T130000
LOCATION:
SUMMARY:CASA Virtual Lunch and Learn
END:VEVENT
END:VCALENDAR
