BEGIN:VCALENDAR
VERSION:2.0
PRODID:-//casawtx.org//NONSGML kigkonsult.se iCalcreator 2.30.10//
CALSCALE:GREGORIAN
METHOD:PUBLISH
UID:255bff42-94b2-4439-988b-19b7d0f9bb9b
X-WR-CALDESC:Join us Thursday\, February 26\, 2026 for the Annual Power of 
 One Luncheon and Children’s Style Show benefiting CASA of West Texas.
X-WR-RELCALID:ab2af81a7d5114f60bbdc5ed34ccff96
X-WR-TIMEZONE:America/Chicago
BEGIN:VTIMEZONE
TZID:America/Chicago
BEGIN:STANDARD
TZNAME:CST
DTSTART:20251102T020000
TZOFFSETFROM:-0500
TZOFFSETTO:-0600
RDATE:20261101T020000
END:STANDARD
BEGIN:DAYLIGHT
TZNAME:CDT
DTSTART:20250309T020000
TZOFFSETFROM:-0600
TZOFFSETTO:-0500
RDATE:20260308T020000
RDATE:20270314T020000
END:DAYLIGHT
END:VTIMEZONE
BEGIN:VEVENT
UID:c6f7a39b-7b60-4985-b297-2e7140709363
DTSTAMP:20260425T213455Z
DESCRIPTION:Join us Thursday\, February 26\, 2026 for the Annual Power of O
 ne Luncheon and Children’s Style Show benefiting CASA of West Texas.
DTSTART;TZID=America/Chicago:20260226T110000
DTEND;TZID=America/Chicago:20260226T130000
LOCATION:Petroleum Club of Midland
SUMMARY:Power of One Luncheon and Children's Style Show
END:VEVENT
END:VCALENDAR
