BEGIN:VCALENDAR
VERSION:2.0
PRODID:-//casawtx.org//NONSGML kigkonsult.se iCalcreator 2.30.10//
CALSCALE:GREGORIAN
METHOD:PUBLISH
UID:438fb43d-023c-45ba-acb2-a10dd73f52c6
X-WR-CALDESC:Sign up for our CASA Information Session and take the first st
 ep toward becoming a voice for a child in foster care.\nCASA Volunteers ar
 e everyday community members who step up and lift up the voices of childre
 n in foster care. Children in foster care need an advocate to speak up for
  them.\nWhat does it take to become a volunteer? Join us to learn the basi
 cs!
X-WR-RELCALID:2e353f363c028148f0e1ba9d54b3f13b
X-WR-TIMEZONE:America/Chicago
BEGIN:VTIMEZONE
TZID:America/Chicago
BEGIN:STANDARD
TZNAME:CST
DTSTART:20251102T020000
TZOFFSETFROM:-0500
TZOFFSETTO:-0600
RDATE:20261101T020000
END:STANDARD
BEGIN:DAYLIGHT
TZNAME:CDT
DTSTART:20250309T020000
TZOFFSETFROM:-0600
TZOFFSETTO:-0500
RDATE:20260308T020000
RDATE:20270314T020000
END:DAYLIGHT
END:VTIMEZONE
BEGIN:VEVENT
UID:d9faad34-efc8-4fd7-b3d5-db090d782cb3
DTSTAMP:20260425T214030Z
DESCRIPTION:Sign up for our CASA Information Session and take the first ste
 p toward becoming a voice for a child in foster care.\nCASA Volunteers are
  everyday community members who step up and lift up the voices of children
  in foster care. Children in foster care need an advocate to speak up for 
 them.\nWhat does it take to become a volunteer? Join us to learn the basic
 s!
DTSTART;TZID=America/Chicago:20260210T120000
DTEND;TZID=America/Chicago:20260210T130000
LOCATION:
SUMMARY:CASA Virtual Lunch and Learn
END:VEVENT
END:VCALENDAR
