BEGIN:VCALENDAR
VERSION:2.0
PRODID:-//casawtx.org//NONSGML kigkonsult.se iCalcreator 2.30.10//
CALSCALE:GREGORIAN
METHOD:PUBLISH
UID:0954a517-17ed-4eee-b6f1-12eca151dda5
X-WR-CALDESC:Welcome to Full Circle 2025 - A Foster Care Training and Commu
 nity Building Training! Attendees will learn from a panel of foster alumni
  that spent time in the juvenile justice system as well as the foster care
  system. The second session will feature a Community Organizer and foster 
 mom\, Jennifer Taylor. A free lunch will be served. Another information se
 ssion will follow after lunch with a synopsis of the Rural Care Pilot Proj
 ect. The afternoon will be spent table groups and will solve current probl
 ems using discussion and innovation. Groups will learn from each other lea
 ving the day with new problem solving skills and services that they did no
 t know existed.
X-WR-RELCALID:33d102dc157d9302df84f55601b823c3
X-WR-TIMEZONE:America/Chicago
BEGIN:VTIMEZONE
TZID:America/Chicago
BEGIN:STANDARD
TZNAME:CST
DTSTART:20241103T020000
TZOFFSETFROM:-0500
TZOFFSETTO:-0600
RDATE:20251102T020000
RDATE:20261101T020000
END:STANDARD
BEGIN:DAYLIGHT
TZNAME:CDT
DTSTART:20250309T020000
TZOFFSETFROM:-0600
TZOFFSETTO:-0500
RDATE:20260308T020000
RDATE:20270314T020000
END:DAYLIGHT
END:VTIMEZONE
BEGIN:VEVENT
UID:92dad79a-0051-475c-9b32-60b80eaa950b
DTSTAMP:20260426T030427Z
DESCRIPTION:Welcome to Full Circle 2025 - A Foster Care Training and Commun
 ity Building Training! Attendees will learn from a panel of foster alumni 
 that spent time in the juvenile justice system as well as the foster care 
 system. The second session will feature a Community Organizer and foster m
 om\, Jennifer Taylor. A free lunch will be served. Another information ses
 sion will follow after lunch with a synopsis of the Rural Care Pilot Proje
 ct. The afternoon will be spent table groups and will solve current proble
 ms using discussion and innovation. Groups will learn from each other leav
 ing the day with new problem solving skills and services that they did not
  know existed.
DTSTART;TZID=America/Chicago:20251023T083000
DTEND;TZID=America/Chicago:20251023T160000
LOCATION:
SUMMARY:Full Circle 2025
END:VEVENT
END:VCALENDAR
