BEGIN:VCALENDAR
VERSION:2.0
PRODID:-//casawtx.org//NONSGML kigkonsult.se iCalcreator 2.30.10//
CALSCALE:GREGORIAN
METHOD:PUBLISH
UID:52002510-47e8-466e-93fb-d202fa1cfc2a
X-WR-CALDESC:SPONSORSHIPS AVAILABLE NOW! TEAM REGISTRATION BEGINS AUGUST 1S
 T!\n\nThe 19th Annual CASA 4 Kids Golf Tournament is scheduled for Friday\
 , October 3\, 2025\, at the Andrews County Golf Course. The tournament wil
 l be a 4-person scramble with an 8:30a shotgun start. All proceeds from th
 e event will benefit CASA of West Texas\, the Court Appointed Special Advo
 cates for children in foster care.
X-WR-RELCALID:1c27e55a40442e26b8a37c7f29ed0d82
X-WR-TIMEZONE:America/Chicago
BEGIN:VTIMEZONE
TZID:America/Chicago
BEGIN:STANDARD
TZNAME:CST
DTSTART:20241103T020000
TZOFFSETFROM:-0500
TZOFFSETTO:-0600
RDATE:20251102T020000
RDATE:20261101T020000
END:STANDARD
BEGIN:DAYLIGHT
TZNAME:CDT
DTSTART:20250309T020000
TZOFFSETFROM:-0600
TZOFFSETTO:-0500
RDATE:20260308T020000
RDATE:20270314T020000
END:DAYLIGHT
END:VTIMEZONE
BEGIN:VEVENT
UID:ff44588a-1e57-41b2-a496-1e5bf9f6a4e3
DTSTAMP:20260426T030605Z
DESCRIPTION:SPONSORSHIPS AVAILABLE NOW! TEAM REGISTRATION BEGINS AUGUST 1ST
 !\n\nThe 19th Annual CASA 4 Kids Golf Tournament is scheduled for Friday\,
  October 3\, 2025\, at the Andrews County Golf Course. The tournament will
  be a 4-person scramble with an 8:30a shotgun start. All proceeds from the
  event will benefit CASA of West Texas\, the Court Appointed Special Advoc
 ates for children in foster care.
DTSTART;TZID=America/Chicago:20251003T050000
DTEND;TZID=America/Chicago:20251003T050001
LOCATION:
SUMMARY:2025 CASA 4 Kids Golf Tournament
END:VEVENT
END:VCALENDAR
